BEGIN:VCALENDAR
VERSION:2.0
PRODID:-//Vital Healthcare Training - ECPv6.15.20//NONSGML v1.0//EN
CALSCALE:GREGORIAN
METHOD:PUBLISH
X-WR-CALNAME:Vital Healthcare Training
X-ORIGINAL-URL:https://vitalcnatraining.com
X-WR-CALDESC:Events for Vital Healthcare Training
REFRESH-INTERVAL;VALUE=DURATION:PT1H
X-Robots-Tag:noindex
X-PUBLISHED-TTL:PT1H
BEGIN:VTIMEZONE
TZID:UTC
BEGIN:STANDARD
TZOFFSETFROM:+0000
TZOFFSETTO:+0000
TZNAME:UTC
DTSTART:20250101T000000
END:STANDARD
END:VTIMEZONE
BEGIN:VEVENT
DTSTART;TZID=UTC:20261019T080000
DTEND;TZID=UTC:20261115T140000
DTSTAMP:20260419T190004
CREATED:20260227T165737Z
LAST-MODIFIED:20260227T165737Z
UID:3526-1792396800-1794751200@vitalcnatraining.com
SUMMARY:CNA Training Start Date (4-Week Program)
DESCRIPTION:
URL:https://vitalcnatraining.com/event/cna-training-start-date-4-week-program-7/
LOCATION:Vital Healthcare Training\, 6704 N Nevada st\, STE 7\, Spokane\, WA\, 99208\, United States
ORGANIZER;CN="Jonathon Knopes":MAILTO:vhtspokane@gmail.com
END:VEVENT
END:VCALENDAR